BEGIN:VCALENDAR
VERSION:2.0
PRODID:-//ChamberMaster//Event Calendar 2.0//EN
METHOD:PUBLISH
X-PUBLISHED-TTL:P1H
REFRESH-INTERVAL:P1H
CALSCALE:GREGORIAN
BEGIN:VTIMEZONE
TZID:America/Chicago
BEGIN:DAYLIGHT
RRULE:FREQ=YEARLY;BYMONTH=3;BYDAY=2SU
DTSTART:20070101T000000
TZOFFSETFROM:-0600
TZOFFSETTO:-0500
TZNAME:Central Daylight Time
END:DAYLIGHT
BEGIN:STANDARD
RRULE:FREQ=YEARLY;BYMONTH=11;BYDAY=1SU
DTSTART:20070101T000000
TZOFFSETFROM:-0500
TZOFFSETTO:-0600
TZNAME:Central Standard Time
END:STANDARD
END:VTIMEZONE
BEGIN:VEVENT
DTSTART;TZID=America/Chicago:20261028T113000
DTEND;TZID=America/Chicago:20261028T130000
X-MICROSOFT-CDO-ALLDAYEVENT:FALSE
SUMMARY:Quarterly Investor Meeting
DESCRIPTION:Information Coming Soon!
X-ALT-DESC;FMTTYPE=text/html:<!DOCTYPE html><html><head><title></title></head><body aria-disabled="false"><p>Information Coming Soon!</p></body></html>
LOCATION:Lee's Summit MO 64063
UID:e.4712.1390726
SEQUENCE:3
DTSTAMP:20260425T134326Z
URL:https://leessummiteconomicdevelopmentcouncil.growthzoneapp.com/events/Details/quarterly-investor-meeting-1642891?sourceTypeId=Hub
END:VEVENT
END:VCALENDAR
