BEGIN:VCALENDAR
VERSION:2.0
PRODID:-//ChamberMaster//Event Calendar 2.0//EN
METHOD:PUBLISH
X-PUBLISHED-TTL:P1H
REFRESH-INTERVAL:P1H
CALSCALE:GREGORIAN
BEGIN:VTIMEZONE
TZID:America/Chicago
BEGIN:DAYLIGHT
RRULE:FREQ=YEARLY;BYMONTH=3;BYDAY=2SU
DTSTART:20070101T000000
TZOFFSETFROM:-0600
TZOFFSETTO:-0500
TZNAME:Central Daylight Time
END:DAYLIGHT
BEGIN:STANDARD
RRULE:FREQ=YEARLY;BYMONTH=11;BYDAY=1SU
DTSTART:20070101T000000
TZOFFSETFROM:-0500
TZOFFSETTO:-0600
TZNAME:Central Standard Time
END:STANDARD
END:VTIMEZONE
BEGIN:VEVENT
DTSTART;TZID=America/Chicago:20260527T113000
DTEND;TZID=America/Chicago:20260527T130000
X-MICROSOFT-CDO-ALLDAYEVENT:FALSE
SUMMARY:Quarterly Investor Meeting
DESCRIPTION:a {    text-decoration: none\;    color: #464feb\; }\ntr th\, tr td {    border: 1px solid #e6e6e6\; }\ntr th {    background-color: #f5f5f5\; }\n\na {    text-decoration: none\;    color: #464feb\; }\ntr th\, tr td {    border: 1px solid #e6e6e6\; }\ntr th {    background-color: #f5f5f5\; }\nJoin us for our Quarterly Investor Meeting on May 27th from 11:30 a.m. to 1:00 p.m. (Location TBD). This meeting will focus on Activity Centers of Development\, exploring key areas of growth\, current projects\, and future development opportunities shaping the Lee's Summit community. Investors will gain insight into ongoing initiatives and have the opportunity to engage in meaningful discussion with community and business leaders.\n\nIf you are a Benefactor\, Leadership Partner\, Pacesetter\, or Grand Champion investor\, please check your email for your ONE complimentary ticket discount code\, or email info@leessummit.org for assistance.
X-ALT-DESC;FMTTYPE=text/html:<!DOCTYPE html><html><head><title></title></head><body aria-disabled="false"><p><meta content="text/html\; charset=us-ascii" http-equiv="Content-Type"></p><div style="font-family:'Segoe UI'\;font-size:14px\;font-style:normal\;font-weight:400\;line-height:20px\;"><meta content="text/html\; charset=us-ascii" http-equiv="Content-Type"><style>\na {    text-decoration: none\;    color: #464feb\; }\ntr th\, tr td {    border: 1px solid #e6e6e6\; }\ntr th {    background-color: #f5f5f5\; }\n</style><style>\na {    text-decoration: none\;    color: #464feb\; }\ntr th\, tr td {    border: 1px solid #e6e6e6\; }\ntr th {    background-color: #f5f5f5\; }\n</style><span style="font-size: 18px\; font-family: Arial\, Helvetica\, sans-serif\;">Join us for our <strong fr-original-style="" style="font-weight: 700\;">Quarterly Investor Meeting</strong> on <strong fr-original-style="" style="font-weight: 700\;">May 27th from 11:30 a.m. to 1:00 p.m.</strong> (Location TBD). This meeting will focus on <strong fr-original-style="" style="font-weight: 700\;">Activity Centers of Development</strong>\, exploring key areas of growth\, current projects\, and future development opportunities shaping the Lee&rsquo\;s Summit community. Investors will gain insight into ongoing initiatives and have the opportunity to engage in meaningful discussion with community and business leaders.</span></div><p><br></p><p><br></p><div style="font-family:'Segoe UI'\;font-size:14px\;font-style:normal\;font-weight:400\;line-height:20px\;"><p><span style="font-size: 18px\; font-family: Arial\, Helvetica\, sans-serif\;">If you are a <strong fr-original-style="" style="font-weight: 700\;">Benefactor\, Leadership Partner\, Pacesetter\, or Grand Champion investor</strong>\, please check your email for your ONE complimentary ticket discount code\, or email <strong fr-original-style="" style="font-weight: 700\;">info@leessummit.org</strong> for assistance.</span></p></div></body></html>
LOCATION:Lees Summit MO 64064
UID:e.4712.1390688
SEQUENCE:3
DTSTAMP:20260425T134326Z
URL:https://leessummiteconomicdevelopmentcouncil.growthzoneapp.com/events/Details/quarterly-investor-meeting-1642854?sourceTypeId=Hub
END:VEVENT
END:VCALENDAR
